BEGIN:VCALENDAR
VERSION:2.0
PRODID:-//Joan Stanford - The Art of Play - ECPv4.9.13//NONSGML v1.0//EN
CALSCALE:GREGORIAN
METHOD:PUBLISH
X-WR-CALNAME:Joan Stanford - The Art of Play
X-ORIGINAL-URL:https://joanstanford.com
X-WR-CALDESC:Events for Joan Stanford - The Art of Play
BEGIN:VTIMEZONE
TZID:America/Los_Angeles
BEGIN:DAYLIGHT
TZOFFSETFROM:-0800
TZOFFSETTO:-0700
TZNAME:PDT
DTSTART:20160313T100000
END:DAYLIGHT
BEGIN:STANDARD
TZOFFSETFROM:-0700
TZOFFSETTO:-0800
TZNAME:PST
DTSTART:20161106T090000
END:STANDARD
END:VTIMEZONE
BEGIN:VEVENT
DTSTART;TZID=America/Los_Angeles:20161102T193000
DTEND;TZID=America/Los_Angeles:20161103T210000
DTSTAMP:20260422T102458
CREATED:20160908T051611Z
LAST-MODIFIED:20160921T023125Z
UID:757-1478115000-1478206800@joanstanford.com
SUMMARY:East West Bookshop: Meet the Author & Workshop
DESCRIPTION:Wednesday\, November 2\nThe Art of Play: Ignite your Imagination for Insight\, Healing\, and Joy\n7:30pm • Free\, but call to reserve a seat\nAs we get busier\, it gets harder and harder to make time for ourselves. Joan Stanford talks about simple and useful tools you can use to carve out time for yourself\, learn to play again\, and inspire imagination in ways that bolster health\, happiness\, and creativity. These ideas can be implemented into and helpful with your work and home life. Joan will discuss tips and techniques\, and will answer questions. See workshop\, Nov 3 \nTo reserve tickets\, please call 650-988-9800 \nThursday\, November 3\nArtful Play to Enrich your Life Workshop\n7-9pm • $20 thru Nov 2\, $25 day of\nEveryone is busy nowadays. This workshop helps artists and non-artists alike carve out time to pay attention to the imagery in our daily lives that can expand our awareness and joy. Making time in this way helps with health and healing\, as well as refreshing our minds and bodies to face our lives anew. Joan Stanford is a board-certified art therapist and full-time innkeeper who has been facilitating creativity groups for over twenty years\, encouraging people of all ages\, especially non-artists\, to expand their awareness through playing with art materials. Attendance limited to 15. See lecture\, Nov 2 \nTo reserve tickets\, please call 650-988-9800\, or buy online: http://www.eastwest.com/events_2016_november \n
URL:https://joanstanford.com/event/east-west-bookshop-meet-the-author-workshop/
LOCATION:East West Bookshop\, 324 Castro Street\, Mountain View\, CA\, 94041\, United States
CATEGORIES:Book Signing,Workshop
END:VEVENT
END:VCALENDAR