BEGIN:VCALENDAR
VERSION:2.0
PRODID:-//Joan Stanford - The Art of Play - ECPv4.9.13//NONSGML v1.0//EN
CALSCALE:GREGORIAN
METHOD:PUBLISH
X-WR-CALNAME:Joan Stanford - The Art of Play
X-ORIGINAL-URL:https://joanstanford.com
X-WR-CALDESC:Events for Joan Stanford - The Art of Play
BEGIN:VTIMEZONE
TZID:America/Los_Angeles
BEGIN:DAYLIGHT
TZOFFSETFROM:-0800
TZOFFSETTO:-0700
TZNAME:PDT
DTSTART:20170312T100000
END:DAYLIGHT
BEGIN:STANDARD
TZOFFSETFROM:-0700
TZOFFSETTO:-0800
TZNAME:PST
DTSTART:20171105T090000
END:STANDARD
END:VTIMEZONE
BEGIN:VEVENT
DTSTART;TZID=America/Los_Angeles:20170619T190000
DTEND;TZID=America/Los_Angeles:20170619T203000
DTSTAMP:20260421T152512
CREATED:20170421T045222Z
LAST-MODIFIED:20170519T192535Z
UID:866-1497898800-1497904200@joanstanford.com
SUMMARY:Community Night at Sanctuary Bistro\, Berkeley - an evening with author Joan Stanford
DESCRIPTION:June 19\, 2017: Please join us for a fun and nutritious event at Sanctuary Bistro in Berkeley\, CA. Monday nights are “Community Night” will feature author Joan Stanford. She will be sharing about her newest book: “The Art of Play.” \nAbout Sanctuary Bistro \nSanctuary Bistro is a family business that is driven by kindness\, compassion\, and community. An environment created for your mind\, body and spirit\, the animals and the Earth. Sanctuary Bistro is a fine dining\, vegan bistro that is healthy for the planet\, environment and all living beings. Our bistro is a warm\, natural\, organic location to enjoy with loved ones\, family\, and friends. We have a focus on giving back to the community through showcasing other small bay area businesses and supporting local non-profits. \nThe idea behind Sanctuary is to spread kindness and compassion\, to raise awareness through amazing food and service and provide a place for people to share and spread this philosophy. \nMore information: http://www.sanctuarybistro.com/ \n
URL:https://joanstanford.com/event/community-night-at-sanctuary-bistro-berkeley-an-evening-with-author-joan-stanford/
CATEGORIES:Book Signing
END:VEVENT
END:VCALENDAR