BEGIN:VCALENDAR
VERSION:2.0
PRODID:-//Joan Stanford - The Art of Play - ECPv4.9.13//NONSGML v1.0//EN
CALSCALE:GREGORIAN
METHOD:PUBLISH
X-WR-CALNAME:Joan Stanford - The Art of Play
X-ORIGINAL-URL:https://joanstanford.com
X-WR-CALDESC:Events for Joan Stanford - The Art of Play
BEGIN:VTIMEZONE
TZID:America/Los_Angeles
BEGIN:DAYLIGHT
TZOFFSETFROM:-0800
TZOFFSETTO:-0700
TZNAME:PDT
DTSTART:20170312T100000
END:DAYLIGHT
BEGIN:STANDARD
TZOFFSETFROM:-0700
TZOFFSETTO:-0800
TZNAME:PST
DTSTART:20171105T090000
END:STANDARD
END:VTIMEZONE
BEGIN:VEVENT
DTSTART;TZID=America/Los_Angeles:20171108T080000
DTEND;TZID=America/Los_Angeles:20171112T170000
DTSTAMP:20260426T035626
CREATED:20170510T041709Z
LAST-MODIFIED:20170510T043745Z
UID:879-1510128000-1510506000@joanstanford.com
SUMMARY:Albuquerque\, New Mexico AATA Conference\, Nov. 8 - 12\, 2017
DESCRIPTION:\nAmerican Art Therapy Association\n48th Annual Conference\nNovember 8-12\, 2017 – Albuquerque\, NM\nHyatt Regency and the Albuquerque Convention Center \nOf note: Joan Stanford will be a presenter at this conference. \nThe theme of the 48th Annual Conference\, Art Therapy: Traversing Landscapes of the Heart & Mind\, reflects how the use of art therapy brings together an all-inclusive approach to wellness\, providing a rich platform to inspire our presenters as they bring their knowledge to light. Our conference is the premier art therapy event. You’ll be able to learn the latest techniques in art therapy and expand your knowledge\, network with leading professionals in the field\, earn continuing education and refresh and reinvigorate your career!  \nMore information:\nhttp://www.arttherapyconference.com/ \n
URL:https://joanstanford.com/event/albuquerque-new-mexico-aata-conference-nov-8-12-2017/
CATEGORIES:Book Signing,Workshop
END:VEVENT
END:VCALENDAR